BEGIN:VCALENDAR
PRODID:-//AT Content Types//AT Event//EN
VERSION:2.0
METHOD:PUBLISH
BEGIN:VEVENT
DTSTAMP:20260419T153459Z
CREATED:20191126T040316Z
UID:ATEvent-ed89dad575714c70b2302eb348d0adcb
LAST-MODIFIED:20191126T041121Z
SUMMARY:Ribbon Cutting IncubatorEdu @ RPS
DTSTART:20191125T200000Z
DTEND:20191125T210000Z
CATEGORIES:rps, workforce, youth, C2C, education
CLASS:PUBLIC
END:VEVENT
END:VCALENDAR
