BEGIN:VCALENDAR
PRODID:-//AT Content Types//AT Event//EN
VERSION:1.0
BEGIN:VEVENT
DTSTART:20210511T000000Z
DTEND:20210511T013000Z
DCREATED:20190701T160731Z
UID:ATEvent-da4c587f16274598a0f6a2e60b367ba7
SEQUENCE:0
LAST-MODIFIED:20210507T121647Z
SUMMARY:C4G: Restrictive Covenants in Rochester
LOCATION:Virtual
PRIORITY:3
TRANSP:0
END:VEVENT
END:VCALENDAR
