BEGIN:VCALENDAR
PRODID:-//AT Content Types//AT Event//EN
VERSION:2.0
METHOD:PUBLISH
BEGIN:VEVENT
DTSTAMP:20260421T013834Z
CREATED:20191201T163940Z
UID:ATEvent-0b9c7a0d77604c79be47b04470c2c6da
LAST-MODIFIED:20191201T164722Z
SUMMARY:EO Johnson IT tips and info lunch with Rochester Area Nonprofit Consortium
DTSTART:20191206T180000Z
DTEND:20191206T190000Z
LOCATION:Families First of MN\, 126 Woodlake Dr\, Rochester\, MN 55904\, USA
CATEGORIES:npc
CONTACT:Brooke A. Carlson\, MA\, MPH\, 612.387.1183\, brooke@northskyhealth.com
URL:https://www.diversitycouncil.org/nonprofitconsortium
CLASS:PUBLIC
END:VEVENT
END:VCALENDAR
