BEGIN:VCALENDAR
PRODID:-//AT Content Types//AT Event//EN
VERSION:1.0
BEGIN:VEVENT
DTSTART:20210326T000000Z
DTEND:20210326T013000Z
DCREATED:20210323T005920Z
UID:ATEvent-fd9a7e57a5394042a345205adaa914c1
SEQUENCE:0
LAST-MODIFIED:20210323T010557Z
SUMMARY:Minnesota Department of Labor and Industry Forum (DLI)
LOCATION:NAACP Rochester Branch MN Facebook page.
PRIORITY:3
TRANSP:0
END:VEVENT
END:VCALENDAR
