BEGIN:VCALENDAR
PRODID:-//AT Content Types//AT Event//EN
VERSION:2.0
METHOD:PUBLISH
BEGIN:VEVENT
DTSTAMP:20260419T232104Z
CREATED:20200914T160452Z
UID:ATEvent-1c0e5c6d81b046419f683a1bfc7bc1f6
LAST-MODIFIED:20200914T160958Z
SUMMARY:MPR - Rochester Advisory Committee Fall Meeting
DTSTART:20201013T160000Z
DTEND:20201013T160000Z
LOCATION:Virtual Meeting
CATEGORIES:diversity, MPR
CONTACT:Kay Hocker\, khocker@mpr.org
CLASS:PUBLIC
END:VEVENT
END:VCALENDAR
