BEGIN:VCALENDAR
PRODID:-//AT Content Types//AT Event//EN
VERSION:1.0
BEGIN:VEVENT
DTSTART:20210410T000000Z
DTEND:20210410T013000Z
DCREATED:20210318T002332Z
UID:ATEvent-a5e2befc0944494286edf44ac1a93d53
SEQUENCE:0
LAST-MODIFIED:20210318T002357Z
SUMMARY:MPR Connects! with Peter Sagal “The Constitution – Can it Keep up With Modern America?”
PRIORITY:3
TRANSP:0
END:VEVENT
END:VCALENDAR
