BEGIN:VCALENDAR
PRODID:-//AT Content Types//AT Event//EN
VERSION:2.0
METHOD:PUBLISH
BEGIN:VEVENT
DTSTAMP:20260419T162217Z
CREATED:20160608T141940Z
UID:ATEvent-d9a1e7da2e2f4989990d3be85a304677
LAST-MODIFIED:20240710T143446Z
SUMMARY:June 23 2016 CNG Meeting: Community Workforce Challenges and Resources
DTSTART:20160623T123000Z
DTEND:20160623T140000Z
DESCRIPTION:Panel Presenations\nFirst\, we will explore and discuss lo
 cal resources available to help employers recruit and retain employees
 \, with an emphasis on non-profit employers. For this portion of the m
 eeting we will be joined by a panel. Panelists include:\n\nMark Shultz
  – SE MN Regional Market Analyst\, DEED\n\nJulie Brock- Workforce De
 velopment & Education Director\, Rochester Area Chamber of Commerce\n\
 nBruce Thompson- Placement Specialist\, Workforce Development\, Inc.\n
 \nJulie Nigon - Manager of the Rochester Adult and Family Literacy Pro
 gram\, Hawthorne Education Center
LOCATION:Rochester Area Foundation- 12 Elton Hills Drive
CATEGORIES:workforce, community
URL:http://cngv2.dmcbeam.org/calendar-folder/june-2016-meeting-folder
CLASS:PUBLIC
END:VEVENT
END:VCALENDAR
