BEGIN:VCALENDAR
PRODID:-//AT Content Types//AT Event//EN
VERSION:2.0
METHOD:PUBLISH
BEGIN:VEVENT
DTSTAMP:20260420T042539Z
CREATED:20181128T153802Z
UID:ATEvent-c9fbb5b2d82647d2bd4404b4e69ba1a1
LAST-MODIFIED:20201007T022156Z
SUMMARY:Human Library at International Day of Persons with Disabilities
DTSTART:20181203T180000Z
DTEND:20181204T000000Z
LOCATION:The Rochester Civic Theatre Company 20 Civic Center Dr SE\, Rochester\, Minnesota 55904
CATEGORIES:diversity, Diversity Council, human library
CLASS:PUBLIC
END:VEVENT
END:VCALENDAR
