BEGIN:VCALENDAR
PRODID:-//AT Content Types//AT Event//EN
VERSION:2.0
METHOD:PUBLISH
BEGIN:VEVENT
DTSTAMP:20260419T150331Z
CREATED:20201211T230711Z
UID:ATEvent-eea99930d29c4015bab01dd4962700d4
LAST-MODIFIED:20201212T010453Z
SUMMARY:Inclusive Workforce Practices: Why you need a workforce plan
DTSTART:20210120T200000Z
DTEND:20210120T210000Z
CATEGORIES:cmrc, workforce
URL:https://www.eventbrite.com/e/inclusive-workforce-practices-why-you-need-a-workforce-participation-plan-tickets-128918742429
CLASS:PUBLIC
END:VEVENT
END:VCALENDAR
