BEGIN:VCALENDAR
PRODID:-//AT Content Types//AT Event//EN
VERSION:1.0
BEGIN:VEVENT
DTSTART:20200910T223000Z
DTEND:20200911T013000Z
DCREATED:20190720T044152Z
UID:ATEvent-1f24cb0e35014ec2a8ad72fd11f21274
SEQUENCE:0
LAST-MODIFIED:20200829T014550Z
SUMMARY:IMAA Presents: "The Pearl gala Virtual Fundraiser"
LOCATION:Virtual Event on Facebook
PRIORITY:3
TRANSP:0
END:VEVENT
END:VCALENDAR
