BEGIN:VCALENDAR
PRODID:-//AT Content Types//AT Event//EN
VERSION:2.0
METHOD:PUBLISH
BEGIN:VEVENT
DTSTAMP:20260421T185532Z
CREATED:20140531T014549Z
UID:ATEvent-4b3d4af5106e4c77b1dc139b1b5c1837
LAST-MODIFIED:20220504T145413Z
SUMMARY:Human Library at Rochester Public Library
DTSTART:20220516T223000Z
DTEND:20220517T000000Z
LOCATION:Rochester Public Library 101 2nd Street Southeast\, Rochester\, MN 55904
CATEGORIES:Diversity Council, Human Library
CLASS:PUBLIC
END:VEVENT
END:VCALENDAR
