BEGIN:VCALENDAR
PRODID:-//AT Content Types//AT Event//EN
VERSION:2.0
METHOD:PUBLISH
BEGIN:VEVENT
DTSTAMP:20260420T042744Z
CREATED:20191126T022711Z
UID:ATEvent-fca83f8c033a432fb1e6fec9e6b2f478
LAST-MODIFIED:20191127T184538Z
SUMMARY:Human Stories at Zion Lutheran Church
DTSTART:20191205T003000Z
DTEND:20191205T013000Z
LOCATION:Zion Lutheran Church 400 5th Ave NE\, Stewartville\, MN 55976
CATEGORIES:diversity, Diversity, human library
CLASS:PUBLIC
END:VEVENT
END:VCALENDAR
