BEGIN:VCALENDAR
PRODID:-//AT Content Types//AT Event//EN
VERSION:1.0
BEGIN:VEVENT
DTSTART:20170824T180000Z
DTEND:20170824T230000Z
DCREATED:20170617T151847Z
UID:ATEvent-0d6d61adb551429f9ff9f933ea617184
SEQUENCE:0
LAST-MODIFIED:20201007T121925Z
SUMMARY:Human Library at Thursdays on First
LOCATION:Thursday on First
PRIORITY:3
TRANSP:0
END:VEVENT
END:VCALENDAR
