BEGIN:VCALENDAR
PRODID:-//AT Content Types//AT Event//EN
VERSION:1.0
BEGIN:VEVENT
DTSTART:20200116T000000Z
DTEND:20200116T020000Z
DCREATED:20200113T001706Z
UID:ATEvent-2b726628de73472a9083886bbe8c2c78
SEQUENCE:0
LAST-MODIFIED:20200115T002152Z
SUMMARY:Human Library
LOCATION:Rochester Public Library
PRIORITY:3
TRANSP:0
END:VEVENT
END:VCALENDAR
