BEGIN:VCALENDAR
PRODID:-//AT Content Types//AT Event//EN
VERSION:2.0
METHOD:PUBLISH
BEGIN:VEVENT
DTSTAMP:20260420T042849Z
CREATED:20190316T003720Z
UID:ATEvent-0515e1d45dab4ab2afb7159855ebb49c
LAST-MODIFIED:20201007T001541Z
SUMMARY:Human Library at Rochester Public Library
DTSTART:20190401T223000Z
DTEND:20190402T013000Z
LOCATION:Rochester Public Library Auditorium
CATEGORIES:immigrant, diversity, human library
CLASS:PUBLIC
END:VEVENT
END:VCALENDAR
