BEGIN:VCALENDAR
PRODID:-//AT Content Types//AT Event//EN
VERSION:1.0
BEGIN:VEVENT
DTSTART:20180308T133000Z
DTEND:20180308T150000Z
DCREATED:20171201T034717Z
UID:ATEvent-0139d40c528f46fbad62149d1472b987
SEQUENCE:0
LAST-MODIFIED:20260329T144406Z
SUMMARY:1Q 2018 Health Assessment and Planning Partnership meetings
DESCRIPTION:Community Health Needs Assessment (CHNA) and Community Hea
 lth Improvement Plan (CHIP)\nUpdates\n\nCommunity Health Assessment an
 d Planning (CHAP) Process Value Strategies\n\nCradle to Career and the
  CHAP Process Linkages\; \n\nNext Steps\n\nAnnouncements and Sharing
LOCATION:Olmsted County Public Health Services
PRIORITY:3
TRANSP:0
END:VEVENT
END:VCALENDAR
