BEGIN:VCALENDAR
PRODID:-//AT Content Types//AT Event//EN
VERSION:1.0
BEGIN:VEVENT
DTSTART:20240613T180000Z
DTEND:20240613T190000Z
DCREATED:20240912T162326Z
UID:ATEvent-e248ca839cf94b5f85eb12e66017e3f2
SEQUENCE:0
LAST-MODIFIED:20250413T164109Z
SUMMARY:2Q 2024 June Health HAPP Meeting
DESCRIPTION:Mobilizing Olmsted Voices for Equity\n(M.O.V.E.) Update\, 
 LGBTQIA+ Co-Design Work Discussion\, 2024 CHAP Satisfaction Survey\, C
 ommunity Announcements and Sharing
LOCATION:Virtual
PRIORITY:3
TRANSP:0
END:VEVENT
END:VCALENDAR
