BEGIN:VCALENDAR
PRODID:-//AT Content Types//AT Event//EN
VERSION:2.0
METHOD:PUBLISH
BEGIN:VEVENT
DTSTAMP:20260422T150227Z
CREATED:20230309T020842Z
UID:ATEvent-e4ed752e6de344fd9805b6ec002ca0e0
LAST-MODIFIED:20260329T142400Z
SUMMARY:1Q 2023 March HAPP Meeting
DTSTART:20230309T133000Z
DTEND:20230309T150000Z
DESCRIPTION:Rural Health Assessment Project\; Community Assets Discuss
 ion\; 2024-2026 CHIP Update and Approach
LOCATION:Teams Meeting
CATEGORIES:CHNA, community, CHAP, Health, openbeam
CLASS:PUBLIC
END:VEVENT
END:VCALENDAR
