BEGIN:VCALENDAR
PRODID:-//AT Content Types//AT Event//EN
VERSION:2.0
METHOD:PUBLISH
BEGIN:VEVENT
DTSTAMP:20260420T100634Z
CREATED:20240910T215605Z
UID:ATEvent-22948af2ee99427cb4ea1b7b952d69af
LAST-MODIFIED:20241007T164422Z
SUMMARY:Latino Economic Development Center: Creating Generational Wealth One  Entrepreneur at a Time
DTSTART:20240918T170000Z
DTEND:20240918T180000Z
DESCRIPTION:.At the Latino Economic Development\nCenter\, we understan
 d the obstacles that our Latino communities face\, and we help\naspiri
 ng business owners to overcome those barriers to achieve their dreams 
 - and\ncreate generational wealth while doing it.
LOCATION:Virtual
CATEGORIES:DMC, Diversity, Entrepreneurship, key, latino
CONTACT:Wafa Elkahlifa \, wafaelklahlifa@dmceda.org
CLASS:PUBLIC
END:VEVENT
END:VCALENDAR
