BEGIN:VCALENDAR
PRODID:-//AT Content Types//AT Event//EN
VERSION:1.0
BEGIN:VEVENT
DTSTART:20171204T190000Z
DTEND:20171204T210000Z
DCREATED:20171130T160355Z
UID:ATEvent-d6721afaec584b35a388d003fec896ab
SEQUENCE:0
LAST-MODIFIED:20201006T225156Z
SUMMARY:Diversity Council Human Library on UN Enable Day
LOCATION:Rochester Civic Theatre
PRIORITY:3
TRANSP:0
END:VEVENT
END:VCALENDAR
