BEGIN:VCALENDAR
PRODID:-//AT Content Types//AT Event//EN
VERSION:1.0
BEGIN:VEVENT
DTSTART:20190919T210000Z
DTEND:20190919T230000Z
DCREATED:20190910T164616Z
UID:ATEvent-48777eb0dd4946298057ea97425a72d8
SEQUENCE:0
LAST-MODIFIED:20190922T155353Z
SUMMARY:Discovery Walk Interactive Experience and One Discovery Square Community Celebration
LOCATION:One Discovery Square
PRIORITY:3
TRANSP:0
END:VEVENT
END:VCALENDAR
