BEGIN:VCALENDAR
PRODID:-//AT Content Types//AT Event//EN
VERSION:1.0
BEGIN:VEVENT
DTSTART:20190814T170000Z
DTEND:20190814T180000Z
DCREATED:20190814T154400Z
UID:ATEvent-21f45c92cae74736bbc60b44d9a3b503
SEQUENCE:0
LAST-MODIFIED:20190814T154715Z
SUMMARY:Cradle to Career Webinar Viewing (Centering Racial Equity: Lessons and Insights)
PRIORITY:3
TRANSP:0
END:VEVENT
END:VCALENDAR
