BEGIN:VCALENDAR
PRODID:-//AT Content Types//AT Event//EN
VERSION:1.0
BEGIN:VEVENT
DTSTART:20210409T000000Z
DTEND:20210409T013000Z
DCREATED:20210408T103406Z
UID:ATEvent-378c66f0311840f981db6fcd86f29026
SEQUENCE:0
LAST-MODIFIED:20210408T104245Z
SUMMARY:Covid 19 Disparity Impacts
DESCRIPTION:COVID 19:  A Health Forum on Virus Disparities and Why Rec
 eipt of the Vaccine is Critical to the Black Community
LOCATION:NAACP Rochester Branch MN Facebook page.
PRIORITY:3
TRANSP:0
END:VEVENT
END:VCALENDAR
