BEGIN:VCALENDAR
PRODID:-//AT Content Types//AT Event//EN
VERSION:1.0
BEGIN:VEVENT
DTSTART:20190822T230000Z
DTEND:20190823T010000Z
DCREATED:20190720T044932Z
UID:ATEvent-d5e12c87b5a74abb922b6e3f0ca7ba56
SEQUENCE:0
LAST-MODIFIED:20201007T001405Z
SUMMARY:Human Library at Rochester Public Library
LOCATION:Rochester Public Library (Meeting Room C on the first floor)
PRIORITY:3
TRANSP:0
END:VEVENT
END:VCALENDAR
