BEGIN:VCALENDAR
PRODID:-//AT Content Types//AT Event//EN
VERSION:2.0
METHOD:PUBLISH
BEGIN:VEVENT
DTSTAMP:20260421T160243Z
CREATED:20180106T233259Z
UID:ATEvent-88ca17cb6a8a4fa786344c67c2d769c4
LAST-MODIFIED:20201007T021819Z
SUMMARY:Diversity Council Human Library at RCTC Student Success Day
DTSTART:20180125T150000Z
DTEND:20180125T180000Z
DESCRIPTION:This will be an opportunity to sit with students and facul
 ty as part of the RCTC Student Success Day.
LOCATION:RCTC in College Center\, Rooms CC408 and CC412
CATEGORIES:diversity, Diversity Council, compassion, Civic Equity, human library
CLASS:PUBLIC
END:VEVENT
END:VCALENDAR
