BEGIN:VCALENDAR
PRODID:-//AT Content Types//AT Event//EN
VERSION:2.0
METHOD:PUBLISH
BEGIN:VEVENT
DTSTAMP:20260419T212145Z
CREATED:20220210T155218Z
UID:ATEvent-92f3c93c4cf14d418c79b48259c480c2
LAST-MODIFIED:20220324T170138Z
SUMMARY:Riverfront Talks: Sustainability + Access
DTSTART:20220302T000000Z
DTEND:20220302T013000Z
DESCRIPTION:The Riverfront Small Area Plan project will create a high-
 level plan for future phased redevelopment.  We are looking for input 
 to identify the Community’s vision for this site and create a plan t
 hat enhances the overall connectivity to the river. The Riverfront pro
 ject is focused on the area east of Broadway\, between 4th Street SE a
 nd 2nd Street SE.
CATEGORIES:DMC, Diversity, Housing, access, sustainability
CLASS:PUBLIC
END:VEVENT
END:VCALENDAR
