BEGIN:VCALENDAR
PRODID:-//AT Content Types//AT Event//EN
VERSION:2.0
METHOD:PUBLISH
BEGIN:VEVENT
DTSTAMP:20260421T105335Z
CREATED:20210323T010817Z
UID:ATEvent-5ee56411359b43e5820635b5015e3db7
LAST-MODIFIED:20210323T011748Z
SUMMARY:COVID 19:  A Health Forum on Virus Disparities and Why Receipt of the Vaccine is Critical to the Black Community
DTSTART:20210409T000000Z
DTEND:20210409T013000Z
LOCATION:NAACP Rochester Branch MN Facebook page.
CATEGORIES:diversity, NAACP
CLASS:PUBLIC
END:VEVENT
END:VCALENDAR
