BEGIN:VCALENDAR
PRODID:-//AT Content Types//AT Event//EN
VERSION:1.0
BEGIN:VEVENT
DTSTART:20191206T160000Z
DTEND:20191206T180000Z
DCREATED:20191119T224320Z
UID:ATEvent-8911bf0f36d64241adf9b0c282948df2
SEQUENCE:0
LAST-MODIFIED:20191205T233453Z
SUMMARY:DMC EDA City for Health - December Meeting
PRIORITY:3
TRANSP:0
END:VEVENT
END:VCALENDAR
