BEGIN:VCALENDAR
PRODID:-//AT Content Types//AT Event//EN
VERSION:2.0
METHOD:PUBLISH
BEGIN:VEVENT
DTSTAMP:20260422T215759Z
CREATED:20170613T194026Z
UID:ATEvent-88b2f241c334430c84caf079cce11788
LAST-MODIFIED:20251212T165207Z
SUMMARY:September Health Assessment and Planning Partnership Meeting
DTSTART:20170914T123000Z
DTEND:20170914T140000Z
DESCRIPTION:September 14th at Olmsted County Public Health Services fr
 om 7:30-9:00 am\nAgenda for the meeting: Sept HAPP Agenda \nMinutes fr
 om last meeting: June Meeting Minutes\nIf you haven't done so\, please
  RSVP: Link to RSVP
LOCATION:Olmsted County Public Health Services
CATEGORIES:community health, community engagement, community
CONTACT:Meaghan Ridler\, ridler.meaghan@co.olmsted.mn.us
CLASS:PUBLIC
END:VEVENT
END:VCALENDAR
