BEGIN:VCALENDAR
PRODID:-//AT Content Types//AT Event//EN
VERSION:2.0
METHOD:PUBLISH
BEGIN:VEVENT
DTSTAMP:20260420T054233Z
CREATED:20201203T030329Z
UID:ATEvent-3734d44a08e745dda414dc7a10410137
LAST-MODIFIED:20210330T123618Z
SUMMARY:Children First Rochester: A community conversation on educating all of our children
DTSTART:20201218T010000Z
DTEND:20201218T023000Z
CATEGORIES:youth, Education, Civic Equity, Diversity
URL:https://www.facebook.com/events/409074813800985/
CLASS:PUBLIC
END:VEVENT
END:VCALENDAR
