BEGIN:VCALENDAR
PRODID:-//AT Content Types//AT Event//EN
VERSION:2.0
METHOD:PUBLISH
BEGIN:VEVENT
DTSTAMP:20260420T104027Z
CREATED:20200831T135112Z
UID:ATEvent-454d1f23a0b44ca2ad09ea91c3879513
LAST-MODIFIED:20200922T142012Z
SUMMARY:C4G: Candidate Forum (Wards 2 and  4)
DTSTART:20200923T233000Z
DTEND:20200924T013000Z
LOCATION:Zoom
CATEGORIES:c4g, governance
CLASS:PUBLIC
END:VEVENT
END:VCALENDAR
