BEGIN:VCALENDAR
PRODID:-//AT Content Types//AT Event//EN
VERSION:2.0
METHOD:PUBLISH
BEGIN:VEVENT
DTSTAMP:20260419T123556Z
CREATED:20190620T151531Z
UID:ATEvent-7c783b45323c44319e9145077a408559
LAST-MODIFIED:20250904T183603Z
SUMMARY:SBDC - Financial Literacy
DTSTART:20250916T230000Z
DTEND:20250917T010000Z
DESCRIPTION:Learn key financial skills to start and grow your small bu
 siness
LOCATION:SBDC Offices
CATEGORIES:diversity, Entrepreneurship
CLASS:PUBLIC
END:VEVENT
END:VCALENDAR
