BEGIN:VCALENDAR
PRODID:-//AT Content Types//AT Event//EN
VERSION:1.0
BEGIN:VEVENT
DTSTART:20250112T210000Z
DTEND:20250112T220000Z
DCREATED:20170922T222055Z
UID:ATEvent-cf5ffc09e00e4aeb82264c4fe4d31b4c
SEQUENCE:0
LAST-MODIFIED:20250117T013442Z
SUMMARY:Interfaith Immigration Prayer Service
DESCRIPTION:When our immigrant neighbors are threatened how can we be 
 silent?
LOCATION:Lourdes Chapel\, Assisi Heights
PRIORITY:3
TRANSP:0
END:VEVENT
END:VCALENDAR
