BEGIN:VCALENDAR
PRODID:-//AT Content Types//AT Event//EN
VERSION:2.0
METHOD:PUBLISH
BEGIN:VEVENT
DTSTAMP:20260425T133222Z
CREATED:20200730T013241Z
UID:ATEvent-b68cbe6d747d4345920bfc5cf1a05596
LAST-MODIFIED:20260129T160557Z
SUMMARY:Homeownership and Wealth Building Workshop
DTSTART:20260221T160000Z
DTEND:20260221T190000Z
DESCRIPTION:This workshop equips community members with practical tool
 s and knowledge to pursue homeownership and build\ngenerational wealth
 .
LOCATION:RAEDI Offices Downtown | 221 1st Ave SW Suite 600\, Rochester MN
CATEGORIES:NAACP, housing, Diversity
CLASS:PUBLIC
END:VEVENT
END:VCALENDAR
