BEGIN:VCALENDAR
PRODID:-//AT Content Types//AT Event//EN
VERSION:2.0
METHOD:PUBLISH
BEGIN:VEVENT
DTSTAMP:20260419T164724Z
CREATED:20180108T015654Z
UID:ATEvent-6f3c82b50c2448aeaf7b24bf790c4dd0
LAST-MODIFIED:20251212T170558Z
SUMMARY:Holiday Potluck Hosted by Pata de Perro and ACHLA
DTSTART:20251217T230000Z
DTEND:20251218T010000Z
DESCRIPTION:Join us with your family and be part of our holiday celebr
 ation and check out our\nstate-of-the-art bike repair facility. If you
  can bring a dish to share\, please sign up\nusing the link below.
LOCATION:702 W Silver Lake Dr NE Rochester\, MN 55901
CATEGORIES:ACHLA, diversity
CLASS:PUBLIC
END:VEVENT
END:VCALENDAR
