BEGIN:VCALENDAR
PRODID:-//AT Content Types//AT Event//EN
VERSION:1.0
BEGIN:VEVENT
DTSTART:20250917T220000Z
DTEND:20250918T003000Z
DCREATED:20190613T010620Z
UID:ATEvent-cd164d1853664bbc8549c762ac837b68
SEQUENCE:0
LAST-MODIFIED:20250904T184030Z
SUMMARY:Hispanic Business Resource & Networking Event
DESCRIPTION:Join us for an evening of networking and resources designe
 d to support Hispanic small business owners.
LOCATION:221 1st Ave. SW\, 6th Floor\, Rochester\, MN
PRIORITY:3
TRANSP:0
END:VEVENT
END:VCALENDAR
