BEGIN:VCALENDAR
PRODID:-//AT Content Types//AT Event//EN
VERSION:2.0
METHOD:PUBLISH
BEGIN:VEVENT
DTSTAMP:20260420T083815Z
CREATED:20170706T015729Z
UID:ATEvent-f17bdebbbb1c45faa388dddeb3b61773
LAST-MODIFIED:20220929T162307Z
SUMMARY:Community Vaccination Clinic (First 50 shots will get a $50 Incentive)
DTSTART:20221014T160000Z
DTEND:20221014T190000Z
DESCRIPTION:Sponsored by Chinese Community Center\, MN Department of H
 ealth\, HomelandHealth
LOCATION:Kuko Sushi Japenese Restaurant\, 460 Crossroads Dr\, Rochester\, MN 55902
CATEGORIES:community, Health, HEALINGS, Covid
CLASS:PUBLIC
END:VEVENT
END:VCALENDAR
