BEGIN:VCALENDAR
PRODID:-//AT Content Types//AT Event//EN
VERSION:1.0
BEGIN:VEVENT
DTSTART:20260215T203000Z
DTEND:20260215T233000Z
DCREATED:20191101T015425Z
UID:ATEvent-5af62b0f9f324157906cc3d071f717df
SEQUENCE:0
LAST-MODIFIED:20260225T023219Z
SUMMARY:Chinese New Year Celebration Gala
DESCRIPTION:Chinese New Year Celebration Gala is a primary annual even
 t of gathering in Rochester Chinese community. The purpose of the even
 t is to celebrate the biggest Chinese holiday\, carry forward the Chin
 ese culture and promote the merge with the multiple cultures in Roches
 ter. Usually there are about 600 people attending this event\, includi
 ng Chinese and other ethnics. \n\n \nStage shows will feature many exc
 iting performances such as singing\, dancing\, poems\, sketch\, dramas
 \, instrument playing\, and more\, mostly with Chinese cultural and ar
 tistic style. During the stage show time\, we will also have lottery t
 o have some surprising prizes.
LOCATION:Lourdes High School Auditorium
PRIORITY:3
TRANSP:0
END:VEVENT
END:VCALENDAR
