BEGIN:VCALENDAR
PRODID:-//AT Content Types//AT Event//EN
VERSION:2.0
METHOD:PUBLISH
BEGIN:VEVENT
DTSTAMP:20260421T084631Z
CREATED:20210115T165257Z
UID:ATEvent-b403046011a84923ba468f2638791d63
LAST-MODIFIED:20210115T165343Z
SUMMARY:2021 Economic Research Launch
DTSTART:20210120T220000Z
DTEND:20210120T230000Z
CATEGORIES:diversity, Entrepreneurship
CLASS:PUBLIC
END:VEVENT
END:VCALENDAR
